Workbook
Name StartDate: 'Event Planner'!$V$34
Name StartDate: #REF!
Name WeekStart: 'Event Planner'!#REF!
Name WeekStart: #REF!

Sheet Event Planner
E2: [Event Title] | AE2: [Event Organizer]
C10: VENUE / LOCATION
C11: INTENDED AUDIENCE
C12: EVENT PURPOSE
C13: EVENT DATE
C14: EVENT START TIME | W14: EVENT END DATE & TIME
C15: EXPECTED NUMBER OF ATTENDEES
D18: Agenda
C20: TIME | I20: TOPIC | AC20: PRESENTER
D34: Event Checklist | Q34: Event Budget
C36: CHECKLIST ITEMS | P36: CATEGORY | V36: TYPE | Z36: ASSIGNED TO | AH36: SUB-TOTALS
C37: ☐ | D37: Venue Confirmed | P37: Venue | V37: Expense | AH37: =Expenses!D20 -> 0
C38: ☐ | D38: Invitations sent | P38: Food | V38: Expense | AH38: =Expenses!H20 -> 0
C39: ☐ | D39: Food ordered | P39: Supplies | V39: Expense | AH39: =Expenses!D29 -> 0
C40: ☐ | D40: A/V secured | P40: Program | V40: Expense | AH40: =Expenses!H29 -> 0
C41: ☐ | P41: Communications | V41: Expense | AH41: =Expenses!D36 -> 0
C42: ☐ | P42: Transportation | V42: Expense | AH42: =Expenses!H35 -> 0
C43: ☐ | P43: Miscellaneous | V43: Expense | AH43: =Expenses!D44 -> 0
C44: ☐ | P44: Budget Allocation | V44: Income | AH44: =Income!G17 -> 0
C45: ☐ | P45: Donations | V45: Income | AH45: =Income!G24 -> 0
C46: ☐ | P46: Admissions | V46: Income | AH46: =Income!G31 -> 0
C47: ☐ | P47: Miscellaneous | V47: Income | AH47: =Income!G39 -> 0
Q51: Key Contacts
C55: NAME | H55: EVENT ROLE | L55: PHONE # | Q55: EMAIL | V55: NAME | AA55: EVENT ROLE | AE55: PHONE # | AJ55: EMAIL
C56: Venue event contact
C57: DEM Internal contacts
C58: Partner contacts

Sheet Expenses
B2: Expenses
G11: ESTIMATED | H11: ACTUAL
B12: Total Expenses | G12: =SUM(C20,C29,C36,C44,G20,G29,G35) -> 0 | H12: =SUM(D20,D29,D36,D44,H20,H29,H35) -> 0
B14: =UPPER('Event Planner'!P37) -> VENUE | C14: ESTIMATED | D14: ACTUAL | F14: =UPPER('Event Planner'!P38) -> FOOD | G14: ESTIMATED | H14: ACTUAL
B15: Category | C15: Estimated | D15: Actual | F15: Category | G15: Estimated | H15: Actual
B16: Room and hall fees | D16: 0 | F16: Food
B17: Site staff | D17: 0 | F17: Drinks
B18: Equipment | F18: Linens
B19: Tables and chairs
B20: Total | C20: =SUBTOTAL(109,Table1[Estimated]) -> 0 | D20: =SUBTOTAL(109,Table1[Actual]) -> 0 | F20: Total | G20: =SUBTOTAL(109,Table5[Estimated]) -> 0 | H20: =SUBTOTAL(109,Table5[Actual]) -> 0
B22: =UPPER('Event Planner'!P39) -> SUPPLIES | C22: ESTIMATED | D22: ACTUAL | F22: =UPPER('Event Planner'!P40) -> PROGRAM | G22: ESTIMATED | H22: ACTUAL
B23: Category | C23: Estimated | D23: Actual | F23: Category | G23: Estimated | H23: Actual
B24: Swag items | D24: 0 | F24: Performers
F25: Speakers
F26: Travel
F27: Hotel
F28: Other
B29: Total | C29: =SUBTOTAL(109,Table2[Estimated]) -> 0 | D29: =SUBTOTAL(109,Table2[Actual]) -> 0 | F29: Total | G29: =SUBTOTAL(109,Table6[Estimated]) -> 0 | H29: =SUBTOTAL(109,Table6[Actual]) -> 0
B31: =UPPER('Event Planner'!P41) -> COMMUNICATIONS | C31: ESTIMATED | D31: ACTUAL | F31: =UPPER('Event Planner'!P42) -> TRANSPORTATION | G31: ESTIMATED | H31: ACTUAL
B32: Category | C32: Estimated | D32: Actual | F32: Category | G32: Estimated | H32: Actual
B33: Graphics work | D33: 0 | F33: Bus
B34: Photocopying/Printing | F34: Gas cards
B35: Postage | F35: Total | G35: =SUBTOTAL(109,Table7[Estimated]) -> 0 | H35: =SUBTOTAL(109,Table7[Actual]) -> 0
B36: Total | C36: =SUBTOTAL(109,Table3[Estimated]) -> 0 | D36: =SUBTOTAL(109,Table3[Actual]) -> 0
B38: =UPPER('Event Planner'!P43) -> MISCELLANEOUS | C38: ESTIMATED | D38: ACTUAL
B39: Category | C39: Estimated | D39: Actual
B44: Total | C44: =SUBTOTAL(109,Table4[Estimated]) -> 0 | D44: =SUBTOTAL(109,Table4[Actual]) -> 0

Sheet Income
B2: Income
F9: ESTIMATED | G9: ACTUAL
B10: Total Income | F10: =SUM(F17,F24,F31,F39) -> 0 | G10: =SUM(G17,G24,G31,G39) -> 0
B12: Budget allocation
B13: ESTIMATED | C13: ACTUAL | F13: ESTIMATED | G13: ACTUAL
F14: =B14*E14 -> 0 | G14: =C14*E14 -> 0
F15: =B15*E15 -> 0 | G15: =C15*E15 -> 0
F16: =B16*E16 -> 0 | G16: =C16*E16 -> 0
F17: =SUM(F14:F16) -> 0 | G17: =SUM(G14:G16) -> 0
B19: Donations
B20: ESTIMATED | C20: ACTUAL | F20: ESTIMATED | G20: ACTUAL
F21: =B21*E21 -> 0 | G21: =C21*E21 -> 0
F22: =B22*E22 -> 0 | G22: =C22*E22 -> 0
F23: =B23*E23 -> 0 | G23: =C23*E23 -> 0
F24: =SUM(F21:F23) -> 0 | G24: =SUM(G21:G23) -> 0
B26: Registration
B27: ESTIMATED | C27: ACTUAL | F27: ESTIMATED | G27: ACTUAL
D28: Adults @ | F28: =B28*E28 -> 0 | G28: =C28*E28 -> 0
D29: Children @ | F29: =B29*E29 -> 0 | G29: =C29*E29 -> 0
D30: Other @ | F30: =B30*E30 -> 0 | G30: =C30*E30 -> 0
F31: =SUM(F28:F30) -> 0 | G31: =SUM(G28:G30) -> 0
B33: Miscellaneous (include support from outside groups here)
B34: ESTIMATED | C34: ACTUAL | F34: ESTIMATED | G34: ACTUAL
F35: =B35*E35 -> 0 | G35: =C35*E35 -> 0
F36: =B36*E36 -> 0 | G36: =C36*E36 -> 0
F37: =B37*E37 -> 0 | G37: =C37*E37 -> 0
F38: =B38*E38 -> 0 | G38: =C38*E38 -> 0
F39: =SUM(F35:F38) -> 0 | G39: =SUM(G35:G38) -> 0
